BEGIN:VCALENDAR
VERSION:2.0
PRODID:-//wp-events-plugin.com//7.2.3.1//EN
TZID:Europe/Berlin
X-WR-TIMEZONE:Europe/Berlin
BEGIN:VEVENT
UID:102@kfobb.de
DTSTART;TZID=Europe/Berlin:20250118T093000
DTEND;TZID=Europe/Berlin:20250118T141000
DTSTAMP:20250114T140856Z
URL:https://kfobb.de/events/update-kieferorthopaedie/
SUMMARY:Charité Update 2025 – Thema: Klasse III
DESCRIPTION:Bitte beachten Sie\, dass eine (kostenfreie) Anmeldung erforder
 lich ist:\n\nhttps://www.eventbrite.com/e/charite-update-2025-klasse-iii-t
 ickets-1130321805949?aff=oddtdtcreator\n\nDas diesjährige Charité Update
  beschäftigt sich mit der Ätiologie und Therapie der Klasse III. Themati
 siert wird zunächst die Ätiologie und Prophylaxe der Klasse III\, im zwe
 iten Teil geht es um die Möglichkeiten der orthopädischen Therapie mitte
 ls maxillärer Protraktion sowie die aktuelle Evidenz zur Bedeutung der GN
 E und skelettalen Verankerung\, sowie um altersbedingten Restriktionen ein
 er orthopädischen Therapie. Im letzten Teil geht es um die Möglichkeiten
  zur kombiniert kieferorthopädisch-kieferchirurgischen Therapie und die B
 ehandlung assoziierter Kiefergelenkprobleme und die Therapie bei gleichzei
 tigem Vorliegen einer obstruktiven Schlafapnoe.\n\nDie Veranstaltung entsp
 richt den aktuellen Leitsätzen zur zahnärztlichen Fortbildung von KZBV\,
  BZÄK und DGZMK und der Punktebewertung von Fortbildungen von BZÄK und D
 GZMK. Sie wird mit 5 Fortbildungspunkten bewertet.\n\nProgramm Charité Up
 date 2025 – Thema: Klasse III\n\nBeginn: 09.30 Uhr\n\n09.30 Uhr: Begrü
 ßung (Prof. Dr. Kathrin Becker)\n\n09.35 - 10.10 Uhr:  Einführung / Wac
 hstum (Dr. Katharina Mücke)\n\n10.10 – 10.25 Uhr: Ätiologie und Vererb
 ung (Dr. Magret Blohmer)\n\n10.25 – 10.40 Uhr: Prophylaxe (Dr. Parnia Ag
 hel)\n\n10.40 - 11.00 Uhr: Funktionsregler III (Dr. Julia De Geer)\n\n11.0
 0 - 11.30 Uhr: Pause\n\n11.30 - 11.45 Uhr: Maxilläre Protraktion (ZÄ Ste
 lla Kamou)\n\n11.45 – 12.00 Uhr: Skelettale Verankerung (ZA Robert Kerbe
 rger)\n\n12.00 - 12.15 Uhr: GNE – ja oder nein?  (Dr. Nusha Paschaei)\n
 \n12.15 – 12.30 Uhr: Bis zu welchem Alter sind orthopädische Maßnahmen
  möglich? (Dr. Christianna Iris Papadopoulou)\n\n12.30 - 13.00 Uhr: Pause
  \n\n13.00 - 13.15 Uhr: CMD und Klasse III (Dr. Robert Röhnisch)\n\n13.1
 5 – 13.25 Uhr: OSAS und Klasse III (Dr. Ayse Safaltin)\n\n13.25 – 14.1
 0 Uhr: KFO-KCH (Dr. Dr. Tobias Ebker)\n\n&nbsp\;
CATEGORIES:Kongress
END:VEVENT
BEGIN:VTIMEZONE
TZID:Europe/Berlin
X-LIC-LOCATION:Europe/Berlin
BEGIN:STANDARD
DTSTART:20241027T020000
TZOFFSETFROM:+0200
TZOFFSETTO:+0100
TZNAME:CET
END:STANDARD
END:VTIMEZONE
END:VCALENDAR