BEGIN:VCALENDAR
VERSION:2.0
PRODID:-//wp-events-plugin.com//7.2.3.1//EN
TZID:Europe/Berlin
X-WR-TIMEZONE:Europe/Berlin
BEGIN:VEVENT
UID:45@kfobb.de
DTSTART;TZID=Europe/Berlin;VALUE=DATE:20190503
DTEND;TZID=Europe/Berlin;VALUE=DATE:20190505
DTSTAMP:20180410T101931Z
URL:https://kfobb.de/events/strukturierte-fortbildung-manuelle-und-osteopa
 thische-medizin-in-der-zahnheilkunde-und-kfo-iv/
SUMMARY:Strukturierte Fortbildung: Manuelle und Osteopathische Medizin in d
 er Zahnheilkunde und KFO IV
DESCRIPTION:Teil 4\nweitere Informationen unter www.pfaff-berlin.de/ppi/102
 0.6
CATEGORIES:Kurs
END:VEVENT
BEGIN:VTIMEZONE
TZID:Europe/Berlin
X-LIC-LOCATION:Europe/Berlin
BEGIN:DAYLIGHT
DTSTART:20190331T030000
TZOFFSETFROM:+0100
TZOFFSETTO:+0200
TZNAME:CEST
END:DAYLIGHT
END:VTIMEZONE
END:VCALENDAR