BEGIN:VCALENDAR
VERSION:2.0
PRODID:-//wp-events-plugin.com//7.2.3.1//EN
TZID:Europe/Berlin
X-WR-TIMEZONE:Europe/Berlin
BEGIN:VEVENT
UID:44@kfobb.de
DTSTART;TZID=Europe/Berlin;VALUE=DATE:20190329
DTEND;TZID=Europe/Berlin;VALUE=DATE:20190401
DTSTAMP:20180410T101916Z
URL:https://kfobb.de/events/strukturierte-fortbildung-manuelle-und-osteopa
 thische-medizin-in-der-zahnheilkunde-und-kfo-3/
SUMMARY:Strukturierte Fortbildung: Manuelle und Osteopathische Medizin in d
 er Zahnheilkunde und KFO III
DESCRIPTION:Teil 3\nweitere Informationen unter www.pfaff-berlin.de/ppi/102
 0.6
CATEGORIES:Kurs
END:VEVENT
BEGIN:VTIMEZONE
TZID:Europe/Berlin
X-LIC-LOCATION:Europe/Berlin
BEGIN:STANDARD
DTSTART:20181028T020000
TZOFFSETFROM:+0200
TZOFFSETTO:+0100
TZNAME:CET
END:STANDARD
END:VTIMEZONE
END:VCALENDAR