BEGIN:VCALENDAR
VERSION:2.0
PRODID:-//wp-events-plugin.com//7.2.3.1//EN
TZID:Europe/Berlin
X-WR-TIMEZONE:Europe/Berlin
BEGIN:VEVENT
UID:80@kfobb.de
DTSTART;TZID=Europe/Berlin:20230127T200000
DTEND;TZID=Europe/Berlin:20230127T220000
DTSTAMP:20230121T091630Z
URL:https://kfobb.de/events/save-the-date-kfo-update-charite/
SUMMARY:KFO-Update Charité
DESCRIPTION:Dr. Philipp Eigenwillig:\nKFO 2023 - Altbewährtes und neues Di
 gitales\nZÄ Diana E. Stoica:\nUnerwartetes - Misserfolge und deren Konseq
 uenzen\nZA Benjamin Kux: Kraniosynostosen  -  was wir Kieferorthopäden 
 darüber wissen sollten\nZÄ Lisa Langer:\nHemisektion zweiter unterer Mil
 chmolaren zur Verankerungssteuerung \nHinweis: Bitte beachten Sie\, dass 
 für Arztpraxen\, Senioreneinrichtungen und Kliniken nach wie vor Zugangsb
 eschränkungen gelten. Für den aktuellen negativen AG-Schnelltest\, ohne 
 den Sie nicht eingelassen werden\, können Sie zum Nachweis den angehängt
 en Link ( https://www.berlin.de/corona/media/downloads/ ) verwenden. Zudem
  müssen Sie in der Zahnklinik eine FFP2-Maske tragen. 
CATEGORIES:Kongress
LOCATION:#_LOCATIONNAME\, #_LOCATIONFULLLINE\, #_LOCATIONCOUNTRY
GEO:52.4765649;13.313540399999965
X-APPLE-STRUCTURED-LOCATION;VALUE=URI;X-ADDRESS=#_LOCATIONFULLLINE\, #_LOCA
 TIONCOUNTRY;X-APPLE-RADIUS=100;X-TITLE=#_LOCATIONNAME:geo:52.4765649,13.31
 3540399999965
END:VEVENT
BEGIN:VTIMEZONE
TZID:Europe/Berlin
X-LIC-LOCATION:Europe/Berlin
BEGIN:STANDARD
DTSTART:20221030T020000
TZOFFSETFROM:+0200
TZOFFSETTO:+0100
TZNAME:CET
END:STANDARD
END:VTIMEZONE
END:VCALENDAR