BEGIN:VCALENDAR
VERSION:2.0
PRODID:-//wp-events-plugin.com//7.2.3.1//EN
TZID:Europe/Berlin
X-WR-TIMEZONE:Europe/Berlin
BEGIN:VEVENT
UID:98@kfobb.de
DTSTART;TZID=Europe/Berlin:20241011T200000
DTEND;TZID=Europe/Berlin:20241011T220000
DTSTAMP:20240923T070129Z
URL:https://kfobb.de/events/prof-maria-cadenas-2/
SUMMARY:Prof. Maria Cadenas
DESCRIPTION:Orthodontic Management of Autotransplanted Teeth\n\nAbstract\nT
 his lecture reviews the orthodontic considerations that need to be taken i
 nto account in cases of teeth with prior trauma and tooth autotransplantat
 ion due to missing incisors in the upper front\, stressing the importance 
 of case selection and force application on the final outcome\, based on th
 e available scientific evidence.\n\n... for more information ...
CATEGORIES:Seminar
END:VEVENT
BEGIN:VTIMEZONE
TZID:Europe/Berlin
X-LIC-LOCATION:Europe/Berlin
BEGIN:DAYLIGHT
DTSTART:20240331T030000
TZOFFSETFROM:+0100
TZOFFSETTO:+0200
TZNAME:CEST
END:DAYLIGHT
END:VTIMEZONE
END:VCALENDAR