BEGIN:VCALENDAR
VERSION:2.0
PRODID:-//wp-events-plugin.com//7.2.3.1//EN
TZID:Europe/Berlin
X-WR-TIMEZONE:Europe/Berlin
BEGIN:VEVENT
UID:108@kfobb.de
DTSTART;TZID=Europe/Berlin:20251121T190000
DTEND;TZID=Europe/Berlin:20251121T210000
DTSTAMP:20250910T101714Z
URL:https://kfobb.de/events/prof-in-liselotte-paulsson-und-prof-in-sofia-p
 etren/
SUMMARY:Prof.in Liselotte Paulsson und Prof.in Sofia Petrén
DESCRIPTION:Liselotte Paulsson: Orthodontic treatment in adolescents with c
 rowded and displaced teeth\, treated with fixed appliances without extract
 ions – studies on effectiveness and adverse effects.\n\nSofia Petrén: T
 reatment of unilateral posterior crossbite - studies on effectiveness\, st
 ability and cost-effectiveness.
CATEGORIES:Seminar
END:VEVENT
BEGIN:VTIMEZONE
TZID:Europe/Berlin
X-LIC-LOCATION:Europe/Berlin
BEGIN:STANDARD
DTSTART:20251026T020000
TZOFFSETFROM:+0200
TZOFFSETTO:+0100
TZNAME:CET
END:STANDARD
END:VTIMEZONE
END:VCALENDAR