BEGIN:VCALENDAR
VERSION:2.0
PRODID:-//wp-events-plugin.com//7.2.3.1//EN
TZID:Europe/Berlin
X-WR-TIMEZONE:Europe/Berlin
BEGIN:VEVENT
UID:96@kfobb.de
DTSTART;TZID=Europe/Berlin:20240913T200000
DTEND;TZID=Europe/Berlin:20240913T220000
DTSTAMP:20240902T073955Z
URL:https://kfobb.de/events/prof-em-dr-ingrid-rudzki/
SUMMARY:Prof. em. Dr. Ingrid Rudzki
DESCRIPTION:Kieferorthopädische Retention\nDie kieferorthopädische Retent
 ion gewinnt zunehmend interdisziplinäre Aufmerksamkeit\, vor allem im Zus
 ammenhang mit fest eingesetzten Retainern in den Frontbereichen.  Immer h
 äufiger belasten unerwartete Veränderungen der Zahnstellung mit parodont
 alen\, funktionellen und ästhetischen Problemen die Patienten und stellen
  die Kieferorthopädie vor kausale Fragenstellungen. Diese Entwicklung wid
 erspricht der anfänglichen Euphorie für den Einsatz langzeitig in situ v
 erbleibender fester Retentionen\, die ein erfolgreiches Stabilisieren kief
 erorthopädisch erreichter Zahnstellungen gewährleisten sollten.\n\nErgä
 nzend zu den fachbezogenen Basisfragen im Anschluss an aktive KFO-Maßnahm
 en: „womit und wie lange soll retiniert werden“ steht auch die Kausali
 tät unerwünschter Befunde zur Diskussion:  „warum  bzw. wie ist es d
 azu gekommen“ ?!\n\nDamit erhält der bekannte Grundsatz jeder kieferort
 hopädischen Behandlungsplanung und -durchführung\, „Ehe Du eine Sache 
 beginnst\, bedenke\, wie sie ausgeht“ eine neue Dimension.\n\nDiese betr
 ifft nicht nur Typ und Charakter jeder personalisierten Diagnostik mit Dif
 ferenzialdiagnostik\, sondern auch die individuell abzuleiteten Behandlung
 saufgaben mit der Forderung\, individualisiert ermittelte physiologische\,
  respektive pathologische\, Grenzbereiche nicht zu überscheiten.\n\nIm Fo
 kus steht auch die prognostische Bewertung aller Behandlungsmaßnahmen\, i
 n die der alterungsbedingte Wandel im Kauorgan therapeutisch einzuplanen i
 st\, ebenso wie die unumgängliche Nachsorge von kieferorthopädischen „
 State-of-the-Art“ Ergebnissen.\n\nweitere Informationen zur Referentin
CATEGORIES:Seminar
END:VEVENT
BEGIN:VTIMEZONE
TZID:Europe/Berlin
X-LIC-LOCATION:Europe/Berlin
BEGIN:DAYLIGHT
DTSTART:20240331T030000
TZOFFSETFROM:+0100
TZOFFSETTO:+0200
TZNAME:CEST
END:DAYLIGHT
END:VTIMEZONE
END:VCALENDAR