BEGIN:VCALENDAR
VERSION:2.0
PRODID:-//wp-events-plugin.com//7.2.3.1//EN
TZID:Europe/Berlin
X-WR-TIMEZONE:Europe/Berlin
BEGIN:VEVENT
UID:92@kfobb.de
DTSTART;TZID=Europe/Berlin:20231006T200000
DTEND;TZID=Europe/Berlin:20231006T220000
DTSTAMP:20230607T101514Z
URL:https://kfobb.de/events/prof-dr-med-dent-kathrin-becker/
SUMMARY:Prof. Dr. med. dent. Kathrin Becker
DESCRIPTION:Implantate zur skelettalen Verankerung in der KFO – Nutzen un
 d Limitationen\nKieferorthopädische Mini-Implantate werden weltweit für 
 orthodontische und  orthopädische Maßnahmen eingesetzt\, da sie komplex
 e Behandlungen in der Umsetzung vereinfachen\, sehr ästhetische und wenig
  sichtbare Behandlungen ermöglichen und das kieferorthopädische Behandlu
 ngsspektrum erweitern. Digitale Technologien könnten die Popularität kie
 ferorthopädischer Implantate noch verstärken. Dennoch ist es wichtig\, s
 ich beim klinischen Einsatz mit wichtigen Grundlagen vertraut zu machen. W
 elche Insertionsregionen können genutzt werden und hat das Patient:innena
 lter bei der Auswahl einen Einfluss? Wie soll die häusliche Hygiene gesta
 ltet sein? Welche Pittfalls gibt es bei der digitalen Planung zu beachten?
  Sind die auf dem Markt verfügbaren Mini-Implantate gleichwertig oder gib
 t es bestimmte Anforderungen an die Geometrie und das Material\, die die E
 rfolgsraten verbessern?\n\nDer Vortrag soll wichtige Aspekte der skelettal
 en Verankerung in der Kieferorthopädie zusammenfassen. Beginnend erfolgt 
 ein kurzer historischen Rückblick. Anschließend werden typische Insertio
 nsorte und verschiedene Indikationen im Kontext der derzeit verfügbaren E
 videnz beleuchtet und mit Patientenbeispielen ergänzt. Schließlich erfol
 gt eine Zusammenfassung möglicher Limitationen und Komplikationen sowie e
 in Überblick über das Thema digitale Planung und den Einsatz von skelett
 aler Verankerung im Rahmen der Aligner-Therapie.\n\n... zum Lebenslauf...
CATEGORIES:Seminar
END:VEVENT
BEGIN:VTIMEZONE
TZID:Europe/Berlin
X-LIC-LOCATION:Europe/Berlin
BEGIN:DAYLIGHT
DTSTART:20230326T030000
TZOFFSETFROM:+0100
TZOFFSETTO:+0200
TZNAME:CEST
END:DAYLIGHT
END:VTIMEZONE
END:VCALENDAR