BEGIN:VCALENDAR
VERSION:2.0
PRODID:-//wp-events-plugin.com//7.2.3.1//EN
TZID:Europe/Berlin
X-WR-TIMEZONE:Europe/Berlin
BEGIN:VEVENT
UID:59@kfobb.de
DTSTART;TZID=Europe/Berlin:20191123T090000
DTEND;TZID=Europe/Berlin:20191123T170000
DTSTAMP:20191104T123719Z
URL:https://kfobb.de/events/pd-dr-bjoern-ludwig-2/
SUMMARY:PD Dr. Björn Ludwig
DESCRIPTION:Digitalisierung in der Kieferorthopädie - Marketing-Falle oder
  Heilsbringer - aus der Praxis für die Praxis!\n\nDie Veranstaltung ist a
 usgebucht! 
CATEGORIES:Kurs
LOCATION:#_LOCATIONNAME\, #_LOCATIONFULLLINE\, #_LOCATIONCOUNTRY
GEO:52.476565;13.31354
X-APPLE-STRUCTURED-LOCATION;VALUE=URI;X-ADDRESS=#_LOCATIONFULLLINE\, #_LOCA
 TIONCOUNTRY;X-APPLE-RADIUS=100;X-TITLE=#_LOCATIONNAME:geo:52.476565,13.313
 54
END:VEVENT
BEGIN:VTIMEZONE
TZID:Europe/Berlin
X-LIC-LOCATION:Europe/Berlin
BEGIN:STANDARD
DTSTART:20191027T020000
TZOFFSETFROM:+0200
TZOFFSETTO:+0100
TZNAME:CET
END:STANDARD
END:VTIMEZONE
END:VCALENDAR