BEGIN:VCALENDAR
VERSION:2.0
PRODID:-//wp-events-plugin.com//7.2.3.1//EN
TZID:Europe/Berlin
X-WR-TIMEZONE:Europe/Berlin
BEGIN:VEVENT
UID:89@kfobb.de
DTSTART;TZID=Europe/Berlin:20240223T200000
DTEND;TZID=Europe/Berlin:20240223T220000
DTSTAMP:20240111T103657Z
URL:https://kfobb.de/events/morten-laurson/
SUMMARY:Morten Laurson\, DDS\, Aarhus\, Denmark
DESCRIPTION:Treatment of asymmetric CL II patients\n\nIn the treatment of a
 symmetries\, the aim is either to restore symmetry or to improve the asymm
 etry. Strategy of treatment can depend on the asymmetry being skeletal or 
 dento-alveolar and whether the asymmetry is localized in the maxilla\, the
  mandible or combined in both jaws.\n\nLocalization of the asymmetry is ke
 y in the treatment planning aiming for good occlusion and facial harmony. 
 Correction of asymmetries in the permanent dentition and especially in the
  adult patient can be challenging and may require extractions and skeletal
  anchorage.\n\nThe lecture will focus on clinical evaluation of asymmetrie
 s and management of various treatment approaches as well as biomechanical 
 considerations in asymmetric CL II patients.\n\n... weitere Informationen 
 ...
CATEGORIES:Seminar
END:VEVENT
BEGIN:VTIMEZONE
TZID:Europe/Berlin
X-LIC-LOCATION:Europe/Berlin
BEGIN:STANDARD
DTSTART:20231029T020000
TZOFFSETFROM:+0200
TZOFFSETTO:+0100
TZNAME:CET
END:STANDARD
END:VTIMEZONE
END:VCALENDAR