BEGIN:VCALENDAR
VERSION:2.0
PRODID:-//wp-events-plugin.com//7.2.3.1//EN
TZID:Europe/Berlin
X-WR-TIMEZONE:Europe/Berlin
BEGIN:VEVENT
UID:110@kfobb.de
DTSTART;TZID=Europe/Berlin:20251114T210000
DTEND;TZID=Europe/Berlin:20251114T220000
DTSTAMP:20250910T101449Z
URL:https://kfobb.de/events/mitgliederversammung/
SUMMARY:Mitgliederversammung
DESCRIPTION:
CATEGORIES:sonstige
END:VEVENT
BEGIN:VTIMEZONE
TZID:Europe/Berlin
X-LIC-LOCATION:Europe/Berlin
BEGIN:STANDARD
DTSTART:20251026T020000
TZOFFSETFROM:+0200
TZOFFSETTO:+0100
TZNAME:CET
END:STANDARD
END:VTIMEZONE
END:VCALENDAR