BEGIN:VCALENDAR
VERSION:2.0
PRODID:-//wp-events-plugin.com//7.2.3.1//EN
TZID:Europe/Berlin
X-WR-TIMEZONE:Europe/Berlin
BEGIN:VEVENT
UID:76@kfobb.de
DTSTART;TZID=Europe/Berlin:20220114T200000
DTEND;TZID=Europe/Berlin:20220114T220000
DTSTAMP:20220110T130928Z
URL:https://kfobb.de/events/kieferorthopaedie-update/
SUMMARY:Kieferorthopädie Update
DESCRIPTION:Das Kieferorthopädie Update findet als Abendveranstaltung onli
 ne via Teams statt. Genauere Angaben haben die Mitglieder per E-Mail erhal
 ten.
CATEGORIES:Kongress
END:VEVENT
BEGIN:VTIMEZONE
TZID:Europe/Berlin
X-LIC-LOCATION:Europe/Berlin
BEGIN:STANDARD
DTSTART:20211031T020000
TZOFFSETFROM:+0200
TZOFFSETTO:+0100
TZNAME:CET
END:STANDARD
END:VTIMEZONE
END:VCALENDAR