BEGIN:VCALENDAR
VERSION:2.0
PRODID:-//wp-events-plugin.com//7.2.3.1//EN
TZID:Europe/Berlin
X-WR-TIMEZONE:Europe/Berlin
BEGIN:VEVENT
UID:111@kfobb.de
DTSTART;TZID=Europe/Berlin:20261009T190000
DTEND;TZID=Europe/Berlin:20261009T210000
DTSTAMP:20251119T164945Z
URL:https://kfobb.de/events/dr-nat-techn-reinhard-gruber/
SUMMARY:Dr. nat. techn. Reinhard Gruber
DESCRIPTION:Biologie der orthodontischen Zahnbewegung
CATEGORIES:Seminar
END:VEVENT
BEGIN:VTIMEZONE
TZID:Europe/Berlin
X-LIC-LOCATION:Europe/Berlin
BEGIN:DAYLIGHT
DTSTART:20260329T030000
TZOFFSETFROM:+0100
TZOFFSETTO:+0200
TZNAME:CEST
END:DAYLIGHT
END:VTIMEZONE
END:VCALENDAR