BEGIN:VCALENDAR
VERSION:2.0
PRODID:-//wp-events-plugin.com//7.2.3.1//EN
TZID:Europe/Berlin
X-WR-TIMEZONE:Europe/Berlin
BEGIN:VEVENT
UID:83@kfobb.de
DTSTART;TZID=Europe/Berlin:20230421T200000
DTEND;TZID=Europe/Berlin:20230421T220000
DTSTAMP:20230313T175407Z
URL:https://kfobb.de/events/dr-maria-c-meazzini-mailand/
SUMMARY:Dr. Maria C. Meazzini\, Mailand
DESCRIPTION:The orthodontists role in the treatment of CLP: what to do\, bu
 t especially what not to do?\n\n... weitere Informationen...
CATEGORIES:Seminar
END:VEVENT
BEGIN:VTIMEZONE
TZID:Europe/Berlin
X-LIC-LOCATION:Europe/Berlin
BEGIN:DAYLIGHT
DTSTART:20230326T030000
TZOFFSETFROM:+0100
TZOFFSETTO:+0200
TZNAME:CEST
END:DAYLIGHT
END:VTIMEZONE
END:VCALENDAR