BEGIN:VCALENDAR
VERSION:2.0
PRODID:-//wp-events-plugin.com//7.2.3.1//EN
TZID:Europe/Berlin
X-WR-TIMEZONE:Europe/Berlin
BEGIN:VEVENT
UID:104@kfobb.de
DTSTART;TZID=Europe/Berlin:20250516T190000
DTEND;TZID=Europe/Berlin:20250516T210000
DTSTAMP:20250514T133059Z
URL:https://kfobb.de/events/dr-dietmar-zuran/
SUMMARY:Dr. Dietmar Zuran
DESCRIPTION:Die Zukunft der Kieferorthopädie\n\nDie Kieferorthopädie hat 
 sich in den letzten 30 Jahren grundlegend verändert – von der\nanalogen
  Abdrucknahme bis hin zur digitalen Behandlungsplanung. Doch was hat die\n
 Digitalisierung tatsächlich gebracht? Sind wir heute besser als vor 30 Ja
 hren – oder einfach\nnur schneller? Der Vortrag wirft einen kritischen B
 lick auf die Entwicklung der\nKieferorthopädie\, beleuchtet Chancen und G
 renzen der digitalen Transformation und zeigt\n-auch kritisch-\, wo wir he
 ute wirklich stehen. Die Rolle von Künstlicher Intelligenz wird\nbeleucht
 et– nicht als Zukunftsvision\, sondern als bereits greifbare Realität i
 n Diagnostik\,\nPlanung und Patientenkommunikation und es wird deutlich\, 
 dass vieles von den\nZukunftsvisionen bereits Realität ist. Was bleibt da
 bei die Rolle des Kieferorthopäden– und\nwie können wir Technologie si
 nnvoll einsetzen\, ohne unsere ärztliche Verantwortung aus\nden Augen zu 
 verlieren.\n\n\n\nDr. Dietmar Zuran erlangte seinen zahnmedizinischen Absc
 hluss an der Freien Universität\nBerlin\, Deutschland. Seine kieferorthop
 ädische Ausbildung erhielt er durch postgraduale\nProgramme in der Kiefer
 orthopädie am Royal Dental College in Aarhus\, Dänemark\, unter der\nLei
 tung von Prof. Melsen\, und an der Charité-Berlin mit Prof. Miethke.\nWä
 hrend seiner akademischen Laufbahn arbeitete Dr. Zuran mit Prof. Burstone 
 an dem\nMultimedia-Projekt "Dynamik der Kieferorthopädie" mit Schwerpunkt
  auf Biomechanik\nzusammen.\nIm Jahr 2000 nach erfolgreicher Prüfung zum 
 Fachzahnarzt für Kieferorthopädie gründete Dr.\nZuran seine private kie
 ferorthopädische Praxis in Österreich. Basierend auf seinem\nFachwissen 
 erweiterte er sein Angebot um Aligner-Kieferorthopädie und betreibt seit 
 2008\neine darauf spezialisierte Zweitpraxis.\nAls früher Anwender innova
 tiver kieferorthopädischer Techniken hat Dr. Zuran viele Jahre als\n"Clin
 ical Speaker" für das Invisalign-System gearbeitet. Darüber hinaus spiel
 te er eine\nzentrale Rolle als Pilotpraxis für verschiedene andere System
 e wie SureSmile\, ClearCorrect\nund AngelAligner.\nDr. Zurans Engagement f
 ür die Einführung modernster Technologie ist in seiner Praxis\ndeutlich 
 erkennbar. Seit 2008 nutzt er die Digitale Volumentomographie\, seit 2011 
 intraorale\nScanner\, seit 2016 den 3D-Druck und seit 2018 Remote Monitori
 ng. Diese Innovationen\nbilden den Grundstein seiner vollständig digitali
 sierten kieferorthopädischen Praxis.
CATEGORIES:Seminar
END:VEVENT
BEGIN:VTIMEZONE
TZID:Europe/Berlin
X-LIC-LOCATION:Europe/Berlin
BEGIN:DAYLIGHT
DTSTART:20250330T030000
TZOFFSETFROM:+0100
TZOFFSETTO:+0200
TZNAME:CEST
END:DAYLIGHT
END:VTIMEZONE
END:VCALENDAR