BEGIN:VCALENDAR
VERSION:2.0
PRODID:-//wp-events-plugin.com//7.2.3.1//EN
TZID:Europe/Berlin
X-WR-TIMEZONE:Europe/Berlin
BEGIN:VEVENT
UID:101@kfobb.de
DTSTART;TZID=Europe/Berlin:20250404T190000
DTEND;TZID=Europe/Berlin:20250404T210000
DTSTAMP:20250401T125422Z
URL:https://kfobb.de/events/dr-dieter-zuran/
SUMMARY:Dr. Seung-Woo Yoo
DESCRIPTION:CADCAM Workflow in der Kieferorthopädie – Der Kieferorthopä
 de als Hersteller\n\nDank rasanter Entwicklung von Scannern und 3D-Drucker
 n\, die immer mehr erschwinglicher werden\, ist es für den Kieferorthopä
 den möglich geworden\, viele Arbeiten selbst zu designen und herzustellen
 . In Verbindung mit einer passenden CAD-Software sind den Möglichkeiten k
 aum Grenzen gesetzt. Gerade in Zeiten des Fachkräftemangels\, was insbeso
 ndere kieferorthopädische Zahntechniker anbelangt\, bietet der CADCAM Wor
 kflow eine gute Alternative.\n\nIn diesem Vortrag wird ein Überblick des 
 CADCAM Workflows in der kieferorthopädischen Praxis übermittelt\, welche
  Möglichkeiten sich ergeben können aber auch welche Hürden noch zu übe
 rwinden sind.\n\n\n\nLebenslauf\n\n 	Studium der Zahnmedizin und Promotion
  an der Eberhard-Karls-Universität Tübingen\n 	Allgemeinzahnärztliche T
 ätigkeit in Metzingen\n 	Weiterbildungsassistent für das Fach Kieferorth
 opädie in Bingen am Rhein\n 	Weiterbildungsassistent und Fachzahnarztprü
 fung für das Fach Kieferorthopädie an der Martin-Luther-Universität Hal
 le unter der Leitung von Prof. Dr. Dr. Fuhrmann\n 	Angestellter Kieferorth
 opäde bei MVZ Medi+ GmbH\, Main\n 	Ärztlicher Leiter des Standortes Rüd
 esheim der Praxis Smile &amp\; function GmbH\n 	Gründung der Fachpraxis f
 ür Kieferorthopädie in Neu-Isenburg\n 	Nationaler und internationaler Re
 ferent für digitale Kieferorthopädie\n
CATEGORIES:Seminar
END:VEVENT
BEGIN:VTIMEZONE
TZID:Europe/Berlin
X-LIC-LOCATION:Europe/Berlin
BEGIN:DAYLIGHT
DTSTART:20250330T030000
TZOFFSETFROM:+0100
TZOFFSETTO:+0200
TZNAME:CEST
END:DAYLIGHT
END:VTIMEZONE
END:VCALENDAR