BEGIN:VCALENDAR
VERSION:2.0
PRODID:-//wp-events-plugin.com//7.2.3.1//EN
TZID:Europe/Berlin
X-WR-TIMEZONE:Europe/Berlin
BEGIN:VEVENT
UID:106@kfobb.de
DTSTART;TZID=Europe/Berlin:20260529T190000
DTEND;TZID=Europe/Berlin:20260529T210000
DTSTAMP:20251126T160146Z
URL:https://kfobb.de/events/dr-cesare-luzi/
SUMMARY:Dr. Cesare Luzi
DESCRIPTION:Adult interdisciplinary treatment and the orthodontic managemen
 t of gummy smile\n\nMore and more adults are referred daily to orthodontic
  specialists for interdisciplinary care. Inter-disciplinary therapy can im
 prove the quality of the final treatment outcome by the synergy of differe
 nt disciplines working consecutively with a strict coordination. Orthodont
 ic treatment is always more requested in interdisciplinary care as it can 
 allow to reach higher standards of results thanks to the improvement of th
 e condition of the periodontal tissues and the possibility of using less d
 estructive restorative procedures. By aligning and leveling the arches\, r
 epositioning the periodontal tissues\, distributing the spaces through too
 th movement\, the orthodontist enhances the work of the prosthodontist and
  the implantologist to realize a better rehabilitation\, both from a funct
 ional and an esthetic perspective. The lecture will cover in particular th
 e often encountered problem of excessive gingival display\, highlighting t
 he differential diagnosis and the orthodontic indications and procedures t
 o treat this condition with successful aesthetic outcome.\n\nDr. Cesare Lu
 zi                                                
                                           \n\nDental
  degree at the University of Rome “La Sapienza”. Postgraduate educatio
 n and Master of Science in Orthodontics at the University of Aarhus\, Denm
 ark. Founder and first President of the European Postgraduate Students Ort
 hodontic Society (EPSOS). Past President of the Italian Society of Biomech
 anics (SIBOS)\, of the Italian Association of Specialists in Orthodontics 
 (ASIO) 2018-19 and of the Italian Academy of Orthodontics (AIDOR) 2022. Ac
 tive member of SIDO (Italian Society of Orthodontics).  Member of the EOS
  (European Orthodontic Society) and WFO (World Federation of Orthodontists
 ). Winner of the Houston Research Award of the EOS (2006) and of the First
  Prize Award for Clinical Research of SIDO (2006). Winner of the Beni Solo
 w Award of the EOS 2010. Diplomate of the Italian Board of Orthodontics an
 d the European Board of Orthodontics. Visiting Professor University of Fer
 rara and University of Rome Cattolica (Italy). Private practice in Rome\, 
 limited to orthodontics. Active member of the Angle Society of Europe (ASE
 ).\n\n
CATEGORIES:Seminar
END:VEVENT
BEGIN:VTIMEZONE
TZID:Europe/Berlin
X-LIC-LOCATION:Europe/Berlin
BEGIN:DAYLIGHT
DTSTART:20260329T030000
TZOFFSETFROM:+0100
TZOFFSETTO:+0200
TZNAME:CEST
END:DAYLIGHT
END:VTIMEZONE
END:VCALENDAR