BEGIN:VCALENDAR
VERSION:2.0
PRODID:-//wp-events-plugin.com//7.2.3.1//EN
TZID:Europe/Berlin
X-WR-TIMEZONE:Europe/Berlin
BEGIN:VEVENT
UID:95@kfobb.de
DTSTART;TZID=Europe/Berlin:20240315T200000
DTEND;TZID=Europe/Berlin:20240315T220000
DTSTAMP:20240122T075316Z
URL:https://kfobb.de/events/daniela-garbo/
SUMMARY:Dr. Daniela Garbo MD\, DDS\, MSc\, Specialist in Orthodontics
DESCRIPTION:Orthodontics in Stage IV periodontitis patients: when and how p
 erform our treatment.\n\nPatients with stage 4 periodontitis are character
 ized by severely reduced periodontal support\, tooth loss and pathologic t
 ooth migration\, causing poor occlusal stability\, inadequate masticatory 
 function\, difficulties in finalizing the prosthetic restauration and aest
 hetic impairment.\n\nOrthodontics is often necessary to finalize the treat
 ment by aligning prosthetic abutment\, creating ideal space for implant re
 storations\, reducing overbite and overjet\, improving aesthetic and occlu
 sion\, while trying to maintain the natural dentition of the patient after
  periodontal therapy.\n\nPatients with severely reduced periodontium under
 going orthodontic treatment need clear definitions of treatment goals and 
 timing of the different therapeutic steps\, as well as careful planning of
  biomechanics\, appliance design and retention phase.\n\nA thorough interd
 isciplinary treatment plan should be performed with definition of all the 
 aspects of treatment\, including precise steps and timing of the different
  interventions performed by the practitioners involved.\n\nFurthermore\, o
 rthodontics should be performed in a healthy periodontium following step 1
 -2-3 of periodontal treatment\, combined with close maintenance and monito
 ring of periodontal health throughout the treatment.\n\nAccording to scien
 tific evidence and 20 years of clinical experience we will analyze indicat
 ions\, goals and limitations to allow a safe and successful orthodontic tr
 eatment of periodontal patient.[/vc_column_text][/vc_column][vc_column wid
 th="1/3"]\n\n...weitere Informationen ...
CATEGORIES:Seminar
END:VEVENT
BEGIN:VTIMEZONE
TZID:Europe/Berlin
X-LIC-LOCATION:Europe/Berlin
BEGIN:STANDARD
DTSTART:20231029T020000
TZOFFSETFROM:+0200
TZOFFSETTO:+0100
TZNAME:CET
END:STANDARD
END:VTIMEZONE
END:VCALENDAR